BEGIN:VCALENDAR
VERSION:2.0
PRODID:-//APERHU - ECPv6.13.2.1//NONSGML v1.0//EN
CALSCALE:GREGORIAN
METHOD:PUBLISH
X-ORIGINAL-URL:https://aperhu.pe
X-WR-CALDESC:Eventos para APERHU
REFRESH-INTERVAL;VALUE=DURATION:PT1H
X-Robots-Tag:noindex
X-PUBLISHED-TTL:PT1H
BEGIN:VTIMEZONE
TZID:America/New_York
BEGIN:DAYLIGHT
TZOFFSETFROM:-0500
TZOFFSETTO:-0400
TZNAME:EDT
DTSTART:20210314T070000
END:DAYLIGHT
BEGIN:STANDARD
TZOFFSETFROM:-0400
TZOFFSETTO:-0500
TZNAME:EST
DTSTART:20211107T060000
END:STANDARD
END:VTIMEZONE
BEGIN:VEVENT
DTSTART;TZID=America/New_York:20211019T183000
DTEND;TZID=America/New_York:20211019T193000
DTSTAMP:20260423T144710
CREATED:20211012T142846Z
LAST-MODIFIED:20211012T143110Z
UID:5802-1634668200-1634671800@aperhu.pe
SUMMARY:Webinar: Construyendo tu imagen desde tu CV
DESCRIPTION:Los invitamos a participar del siguiente webinar\, organizado por la Comunidad de Empleabilidad\, Inscríbete aquí
URL:https://aperhu.pe/evento/webinar-construyendo-tu-imagen-desde-tu-cv/
ATTACH;FMTTYPE=image/jpeg:https://aperhu.pe/wp-content/uploads/2021/10/webinar-imagen-cv.jpeg
END:VEVENT
BEGIN:VEVENT
DTSTART;TZID=America/New_York:20211014T180000
DTEND;TZID=America/New_York:20211014T190000
DTSTAMP:20260423T144710
CREATED:20211011T152140Z
LAST-MODIFIED:20211011T161825Z
UID:5792-1634234400-1634238000@aperhu.pe
SUMMARY:Webinar: Por Convicción y no por Obligación\, Inclusión de personas con discapacidad
DESCRIPTION:Este 16 de octubre se celebra en el Perú el día de la persona con discapacidad y desde Aperhu queremos reconocer en este día a todas las personas que nos enseñan día adía que cada reto en la vida es una oportunidad para mejorar y a las empresas que reconocen el talento sin limitaciones. Inscríbete aquí.
URL:https://aperhu.pe/evento/webinar-por-conviccion-y-no-por-obligacion-inclusion-de-personas-con-discapacidad/
END:VEVENT
BEGIN:VEVENT
DTSTART;TZID=America/New_York:20211007T180000
DTEND;TZID=America/New_York:20211007T190000
DTSTAMP:20260423T144710
CREATED:20211004T144845Z
LAST-MODIFIED:20211004T150118Z
UID:5771-1633629600-1633633200@aperhu.pe
SUMMARY:Webinar: Creando Programas de Liderazgo
DESCRIPTION:Uno de los desafíos más críticos que tienen todas las organizaciones hoy en día es identificar y desarrollar a sus líderes actuales y futuros. Muchas trabajan este desafío con esquema generales de competencias o con cursos específicos aspirando cambios y logros sostenibles en el tiempo. \nPara ser realmente efectivos en esto y lograr un valor e impacto sostenido en los resultados del negocio\, es vital una mirada integral que asegure las competencias y capacidades críticas en los líderes para llevar a cabo la estrategia organizacional a través de las personas. \nEn esta sesión podrás: \n1. Conocer un modelo comprobado y práctico para desarrollar un programa de liderazgo.\n2. Atender tus principales inquietudes sobre el desarrollo de un programa liderazgo en tu empresa.\n3. Conocer los recursos básicos que sostendrán tus esfuerzo para el desarrollo del Liderazgo en tu organización. \nTe invitamos a participar de este webinar gratuito. Inscríbete aquí
URL:https://aperhu.pe/evento/webinar-creando-programas-de-liderazgo/
ATTACH;FMTTYPE=image/jpeg:https://aperhu.pe/wp-content/uploads/2021/10/webinar-7-octubre-flyer.jpg
END:VEVENT
BEGIN:VEVENT
DTSTART;TZID=America/New_York:20211006T090000
DTEND;TZID=America/New_York:20211006T100000
DTSTAMP:20260423T144710
CREATED:20210924T142448Z
LAST-MODIFIED:20210924T144527Z
UID:5745-1633510800-1633514400@aperhu.pe
SUMMARY:Webinar: Ética y delincuencia laboral en tiempos de incertidumbre
DESCRIPTION:En el mundo laboral nada es más importante que poder confiar en las personas que trabajan con nosotros. Hoy\, más que nunca\, es crítico conocer los valores de nuestros colaboradores. \nEn este webinar abordaremos las herramientas que pueden hacer frente a la incertidumbre y mitigar los riesgos. \nTe invitamos a participar de este webinar gratuito. Inscríbete aquí
URL:https://aperhu.pe/evento/webinar-etica-y-delincuencia-laboral-en-tiempos-de-incertidumbre/
ATTACH;FMTTYPE=image/png:https://aperhu.pe/wp-content/uploads/2021/09/webinar-6-octubre.png
END:VEVENT
BEGIN:VEVENT
DTSTART;TZID=America/New_York:20210930T180000
DTEND;TZID=America/New_York:20210930T190000
DTSTAMP:20260423T144710
CREATED:20210922T231929Z
LAST-MODIFIED:20210922T231929Z
UID:5729-1633024800-1633028400@aperhu.pe
SUMMARY:Webinar: Gestión de las tercerizaciones de servicios u obras
DESCRIPTION:En este espacio\, actualizaremos a los participantes sobre los retos y proyección de una figura laboral que se encuentra en la agenda política y legislativa. \nLos invitamos a participar de este webinar gratuito. Inscríbete aquí \n 
URL:https://aperhu.pe/evento/webinar-gestion-de-las-tercerizaciones-de-servicios-u-obras/
ATTACH;FMTTYPE=image/png:https://aperhu.pe/wp-content/uploads/2021/09/webinar.png
END:VEVENT
BEGIN:VEVENT
DTSTART;TZID=America/New_York:20210928T170000
DTEND;TZID=America/New_York:20210930T170000
DTSTAMP:20260423T144710
CREATED:20210818T222309Z
LAST-MODIFIED:20210819T015318Z
UID:5601-1632848400-1633021200@aperhu.pe
SUMMARY:Congreso Internacional 2021 | Bienestar: Impacto en la gestión de personas\, desafíos en la era digital
DESCRIPTION:Más información: www.cegh.pe
URL:https://aperhu.pe/evento/congreso-internacional-2021-bienestar-impacto-en-la-gestion-de-personas-desafios-en-la-era-digital/
ATTACH;FMTTYPE=image/jpeg:https://aperhu.pe/wp-content/uploads/2021/08/postafiche.jpg
END:VEVENT
BEGIN:VEVENT
DTSTART;TZID=America/New_York:20210921T190000
DTEND;TZID=America/New_York:20211019T213000
DTSTAMP:20260423T144710
CREATED:20210907T210642Z
LAST-MODIFIED:20210907T212703Z
UID:5677-1632250800-1634679000@aperhu.pe
SUMMARY:Curso: CHANGE MANAGEMENT en tiempos acelerados
DESCRIPTION:Te invitamos a participar de 5 sesiones de full aprendizaje sobre change management\, a lo largo de las 5 sesiones trabajaremos en un caso real de transformación digital. \nInicio de Clases: 21 de septiembre \nHorario: Martes de 07:00 p.m a 09:30 p.m \nPlataforma: Zoom \nInversión: \nSocios: S/ 250 incluye IGV\nNo socios: S/ 350 incluye IGV \n*Certificado a nombre de APERHU. \nMás información:  \nInscríbete aquí \n  \n  \n 
URL:https://aperhu.pe/evento/curso-change-management-en-tiempos-acelerados/
ATTACH;FMTTYPE=image/jpeg:https://aperhu.pe/wp-content/uploads/2021/09/curso.jpg
END:VEVENT
BEGIN:VEVENT
DTSTART;TZID=America/New_York:20210921T180000
DTEND;TZID=America/New_York:20210921T190000
DTSTAMP:20260423T144710
CREATED:20210909T200243Z
LAST-MODIFIED:20210909T201824Z
UID:5700-1632247200-1632250800@aperhu.pe
SUMMARY:Webinar: Viaje desde el mundo analógico hacia el mundo digital
DESCRIPTION:¡Hola! \nHoy el área de Recursos Humanos es uno de los grandes candidatos a promover y educar en esta era de digitalización a todos los colaboradores dentro de su organización. Una empresa que pretende llevar este pensamiento\, no sólo mejorará sus procesos sino que también\, la carga innecesaria de trabajo que fácilmente puede ser automatizada. ¿Tenemos tiempo para pasar de este mundo analógico al mundo digital? \nNuestros ponentes responderán estas y muchas otras dudas con tips claves para que así puedas viajar sobre el puente que te conducirá desde el mundo analógico al mundo digital. \n¡Te esperamos! \nInscríbete aquí \n 
URL:https://aperhu.pe/evento/webinar-viaje-desde-el-mundo-analogico-hacia-el-mundo-digital/
ATTACH;FMTTYPE=image/png:https://aperhu.pe/wp-content/uploads/2021/09/webnar-21-sep.png
END:VEVENT
BEGIN:VEVENT
DTSTART;TZID=America/New_York:20210915T190000
DTEND;TZID=America/New_York:20210915T193000
DTSTAMP:20260423T144710
CREATED:20210901T231100Z
LAST-MODIFIED:20210902T154030Z
UID:5660-1631732400-1631734200@aperhu.pe
SUMMARY:Presentación del libro "150 Consejos de Carrera"
DESCRIPTION:No te pierdas la presentación del libro de “150 CONSEJOS DE CARRERA”\, escrita por Laura de Acha\, consejera de Carrera con más de 37 años de experiencia en recursos humanos. \nLa presentación y comentarios estarán a cargo de un panel de expertos en el tema\, quienes nos comentarán sobre las fases de este libro\, el planeamiento de carrera\, consejos prácticos para el mundo del trabajo y cómo prepararse para el retiro o la jubilación. \nRegístrate aquí: https://bit.ly/consejosdecarrera \n¡Te esperamos!
URL:https://aperhu.pe/evento/presentacion-del-libro-150-consejos-de-carrera/
ATTACH;FMTTYPE=image/png:https://aperhu.pe/wp-content/uploads/2021/09/lbropng.png
END:VEVENT
BEGIN:VEVENT
DTSTART;TZID=America/New_York:20210908T080000
DTEND;TZID=America/New_York:20210910T170000
DTSTAMP:20260423T144710
CREATED:20210812T222554Z
LAST-MODIFIED:20210812T222554Z
UID:5573-1631088000-1631293200@aperhu.pe
SUMMARY:Congreso Internacional de Recursos Humanos 2021 Edición 56° de AMEDIRH
DESCRIPTION:Más información: https://www.congresoamedirh.com/
URL:https://aperhu.pe/evento/congreso-internacional-de-recursos-humanos-2021-edicion-56-de-amedirh/
END:VEVENT
BEGIN:VEVENT
DTSTART;TZID=America/New_York:20210907T190000
DTEND;TZID=America/New_York:20210907T200000
DTSTAMP:20260423T144710
CREATED:20210823T225252Z
LAST-MODIFIED:20210823T231337Z
UID:5610-1631041200-1631044800@aperhu.pe
SUMMARY:Webinar: Change Management para entornos acelerados
DESCRIPTION:Temario: \n– Las curvas exponenciales (Ley de Moore y su impacto).\n– La importancia de las soft skills y la innovación en entornos inestables.\n– Las curvas de adopción. \nLos invitamos a participar de este webinar gratuito. Inscríbete aquí
URL:https://aperhu.pe/evento/webinar-change-management-para-entornos-acelerados/
ATTACH;FMTTYPE=image/png:https://aperhu.pe/wp-content/uploads/2021/08/webnar-7-sep.png
END:VEVENT
BEGIN:VEVENT
DTSTART;TZID=America/New_York:20210902T180000
DTEND;TZID=America/New_York:20210902T190000
DTSTAMP:20260423T144710
CREATED:20210823T225033Z
LAST-MODIFIED:20210823T231425Z
UID:5607-1630605600-1630609200@aperhu.pe
SUMMARY:Webinar: Aspectos tributarios relevantes para el financiamiento empresarial\, últimos pronunciamientos de la SUNAT y del Tribunal Fiscal
DESCRIPTION:En este espacio\, actualizaremos a los participantes sobre la posición de la SUNAT y el Tribunal en el caso de gastos financieros de las empresas. \nTemario: \n– Aspectos Generales\n– EBITDA Tributario\n– Factoring \nLos invitamos a participar de este webinar gratuito. Inscríbete aquí
URL:https://aperhu.pe/evento/webinar-aspectos-tributarios-relevantes-para-el-financiamiento-empresarial-ultimos-pronunciamientos-de-la-sunat-y-del-tribunal-fiscal/
ATTACH;FMTTYPE=image/png:https://aperhu.pe/wp-content/uploads/2021/08/webnar-2sep.png
END:VEVENT
BEGIN:VEVENT
DTSTART;TZID=America/New_York:20210826T180000
DTEND;TZID=America/New_York:20210826T190000
DTSTAMP:20260423T144710
CREATED:20210818T140929Z
LAST-MODIFIED:20210818T141040Z
UID:5590-1630000800-1630004400@aperhu.pe
SUMMARY:Webinar: Pasos clave para el Desarrollo de Habilidades en las Organizaciones
DESCRIPTION:Te invitamos a participar de nuestro próximo Webinar Desarrollo de Habilidades en las Organizaciones donde te brindaremos las pautas clave para elegir el programa de capacitación ideal que vaya acorde al presupuesto asignado y que esté alineado a los objetivos de la empresa. Además\, compartiremos diversos métodos para adoptar un enfoque dinámico y práctico. \nLos invitamos a participar de este webinar gratuito. Inscríbete aquí
URL:https://aperhu.pe/evento/webinar-pasos-clave-para-el-desarrollo-de-habilidades-en-las-organizaciones/
ATTACH;FMTTYPE=image/png:https://aperhu.pe/wp-content/uploads/2021/08/webinar-2.png
END:VEVENT
BEGIN:VEVENT
DTSTART;TZID=America/New_York:20210824T180000
DTEND;TZID=America/New_York:20210824T190000
DTSTAMP:20260423T144710
CREATED:20210813T210928Z
LAST-MODIFIED:20210813T212221Z
UID:5581-1629828000-1629831600@aperhu.pe
SUMMARY:Webinar: Talento Sobrecalificado y Líderes Narcisistas ¿Riesgo u Oportunidad para las Organizaciones?
DESCRIPTION:Los invitamos a participar de este webinar gratuito. Inscríbete aquí
URL:https://aperhu.pe/evento/webinar-talento-sobrecalificado-y-lideres-narcisistas-riesgo-u-oportunidad-para-las-organizaciones/
ATTACH;FMTTYPE=image/png:https://aperhu.pe/wp-content/uploads/2021/08/midotflyer.png
END:VEVENT
BEGIN:VEVENT
DTSTART;TZID=America/New_York:20210817T180000
DTEND;TZID=America/New_York:20210817T190000
DTSTAMP:20260423T144710
CREATED:20210806T145610Z
LAST-MODIFIED:20210813T211248Z
UID:5565-1629223200-1629226800@aperhu.pe
SUMMARY:Webinar: La transformación del aprendizaje organizacional en un nuevo contexto
DESCRIPTION:Los invitamos a participar de este webinar gratuito. Inscríbete aquí
URL:https://aperhu.pe/evento/la-transformacion-del-aprendizaje-organizacional-en-un-nuevo-contexto/
ATTACH;FMTTYPE=image/png:https://aperhu.pe/wp-content/uploads/2021/08/webinar-1.png
END:VEVENT
BEGIN:VEVENT
DTSTART;TZID=America/New_York:20210721T060000
DTEND;TZID=America/New_York:20210721T190000
DTSTAMP:20260423T144710
CREATED:20210712T150612Z
LAST-MODIFIED:20210715T211619Z
UID:5502-1626847200-1626894000@aperhu.pe
SUMMARY:Webinar: Global Talent Trends 2021
DESCRIPTION:Las organizaciones líderes están equilibrando la transformación digital con la escucha\, el cuidado y el mejoramiento de la experiencia de sus colaboradores. \nPero\, ¿Cómo lo están haciendo? \nConozca en este webinar las Tendencias Globales de Talento 2021 y su aplicabilidad en Perú. \nLos invitamos a participar de este webinar gratuito. Inscríbete aquí
URL:https://aperhu.pe/evento/webinar-global-talent-trends-2021/
ATTACH;FMTTYPE=image/png:https://aperhu.pe/wp-content/uploads/2021/07/webinar-talent.png
END:VEVENT
BEGIN:VEVENT
DTSTART;TZID=America/New_York:20210720T180000
DTEND;TZID=America/New_York:20210720T190000
DTSTAMP:20260423T144710
CREATED:20210712T145708Z
LAST-MODIFIED:20210712T145847Z
UID:5497-1626804000-1626807600@aperhu.pe
SUMMARY:Webinar: People Analytics al servicio de Equipos de Alto Desempeño
DESCRIPTION:Los invitamos a participar de este webinar gratuito. Inscríbete aquí
URL:https://aperhu.pe/evento/webinar-people-analytics-al-servicio-de-equipos-de-alto-desempeno/
ATTACH;FMTTYPE=image/png:https://aperhu.pe/wp-content/uploads/2021/07/people-analytics.png
END:VEVENT
BEGIN:VEVENT
DTSTART;TZID=America/New_York:20210715T180000
DTEND;TZID=America/New_York:20210715T190000
DTSTAMP:20260423T144710
CREATED:20210705T204337Z
LAST-MODIFIED:20210705T205126Z
UID:5487-1626372000-1626375600@aperhu.pe
SUMMARY:HR Analytics: Elemento clave para el desarrollo del negocio
DESCRIPTION:Este espacio tiene como objetivo dimensionar el impacto de HR analytics en el negocio resaltando la importancia de implementar procesos basados en tecnología para asegurar la competitividad con base a informes objetivos\, elaborados en tiempo real\, que aporten a la toma de decisiones disminuyendo el tiempo de operatividad por medio de la automatización. \nContenido:\n\n\nCurva de madurez de HR analytics\nContexto actual: Encuesta 2021 HR analytics Perú\nBeneficios de HR analytics\n\nInscríbete aquí
URL:https://aperhu.pe/evento/hr-analytics-elemento-clave-para-el-desarrollo-del-negocio/
ATTACH;FMTTYPE=image/png:https://aperhu.pe/wp-content/uploads/2021/07/webinar-e1625517712639.png
END:VEVENT
BEGIN:VEVENT
DTSTART;TZID=America/New_York:20210707T183000
DTEND;TZID=America/New_York:20210707T200000
DTSTAMP:20260423T144710
CREATED:20210704T185558Z
LAST-MODIFIED:20210705T135106Z
UID:5478-1625682600-1625688000@aperhu.pe
SUMMARY:Webinar: Criterios del Tribunal de Fiscalización Laboral y su impacto en las empresas
DESCRIPTION:Te invitamos a participar en este webinar\, organizado por la Comunidad de Relaciones Laborales. \nWebinar solo para asociados de Aperhu. Inscríbete aquí
URL:https://aperhu.pe/evento/webinar-criterios-del-tribunal-de-fiscalizacion-laboral-y-su-impacto-en-las-empresas/
ATTACH;FMTTYPE=image/png:https://aperhu.pe/wp-content/uploads/2021/07/fiscalizacion.png
END:VEVENT
BEGIN:VEVENT
DTSTART;TZID=America/New_York:20210701T090000
DTEND;TZID=America/New_York:20210701T100000
DTSTAMP:20260423T144710
CREATED:20210624T223143Z
LAST-MODIFIED:20210625T181432Z
UID:5442-1625130000-1625133600@aperhu.pe
SUMMARY:Webinar: El nuevo desafío de RR.HH: Certificación Online Employee Experience
DESCRIPTION:Te invitamos a participar de este webinar\, donde te daremos a conocer como podrás formar a todo tu equipo con la Certificación Online de Employee Experience\, el principal programa especializado en Experiencia del Colaborador en Iberoamérica. \nConoce más sobre el nuevo beneficio que brindará Aperhu a sus asociados en colaboración con Izo. Inscríbete aquí
URL:https://aperhu.pe/evento/webinar-el-nuevo-desafio-de-rr-hh-certificacion-online-employee-experience/
ATTACH;FMTTYPE=image/png:https://aperhu.pe/wp-content/uploads/2021/06/webinar.png
END:VEVENT
BEGIN:VEVENT
DTSTART;TZID=America/New_York:20210624T180000
DTEND;TZID=America/New_York:20210624T190000
DTSTAMP:20260423T144710
CREATED:20210617T150632Z
LAST-MODIFIED:20210617T152021Z
UID:5344-1624557600-1624561200@aperhu.pe
SUMMARY:Webinar: Inclusión LGBTIQ+ en la nueva normalidad
DESCRIPTION:Este espacio tiene como objetivo sensibilizar sobre la inclusión del talento LGBTIQ+ en las organizaciones a través de acciones equitativas que contribuyen en la igualdad de derechos. Inscríbete aquí al webinar.
URL:https://aperhu.pe/evento/webinar-inclusion-lgbtiq-en-la-nueva-normalidad/
ATTACH;FMTTYPE=image/png:https://aperhu.pe/wp-content/uploads/2021/06/WEBINAR-DI.png
END:VEVENT
BEGIN:VEVENT
DTSTART;TZID=America/New_York:20210622T060000
DTEND;TZID=America/New_York:20210622T190000
DTSTAMP:20260423T144710
CREATED:20210615T153340Z
LAST-MODIFIED:20210615T153845Z
UID:5324-1624341600-1624388400@aperhu.pe
SUMMARY:Webinar: Gestión de la Disciplina Laboral
DESCRIPTION:
URL:https://aperhu.pe/evento/webinar-gestion-de-la-disciplina-laboral/
ATTACH;FMTTYPE=image/png:https://aperhu.pe/wp-content/uploads/2021/06/FLYER.png
END:VEVENT
BEGIN:VEVENT
DTSTART;TZID=America/New_York:20210617T180000
DTEND;TZID=America/New_York:20210617T193000
DTSTAMP:20260423T144710
CREATED:20210607T172415Z
LAST-MODIFIED:20210616T223352Z
UID:5291-1623952800-1623958200@aperhu.pe
SUMMARY:Conversatorio: La productividad laboral en tiempos de incertidumbre
DESCRIPTION:En este espacio\, expertos en RRHH te compartirán cómo gestionan la productividad laboral en sus organizaciones y consejos claves para el óptimo desempeño laboral a distancia de los equipos de trabajo. Inscríbete aquí al conversatorio. \nAdemás\, comentarán sobre los procesos de evaluación de desempeño y las nuevas prácticas que tuvieron que implementar en tiempos de incertidumbre.
URL:https://aperhu.pe/evento/conversatorio-la-productividad-laboral-en-tiempos-de-incertidumbre/
ATTACH;FMTTYPE=image/png:https://aperhu.pe/wp-content/uploads/2021/06/flyer-productividad.png
END:VEVENT
BEGIN:VEVENT
DTSTART;TZID=America/New_York:20210615T180000
DTEND;TZID=America/New_York:20210615T190000
DTSTAMP:20260423T144710
CREATED:20210607T172237Z
LAST-MODIFIED:20210607T172237Z
UID:5288-1623780000-1623783600@aperhu.pe
SUMMARY:Webinar: Impacto de las nuevas tendencias on-demand en el bienestar e inclusión de nuestros colaboradores
DESCRIPTION:
URL:https://aperhu.pe/evento/webinar-impacto-de-las-nuevas-tendencias-on-demand-en-el-bienestar-e-inclusion-de-nuestros-colaboradores/
ATTACH;FMTTYPE=image/png:https://aperhu.pe/wp-content/uploads/2021/06/webinar-impacto.png
END:VEVENT
BEGIN:VEVENT
DTSTART;TZID=America/New_York:20210603T180000
DTEND;TZID=America/New_York:20210603T191500
DTSTAMP:20260423T144710
CREATED:20210531T150433Z
LAST-MODIFIED:20210531T150433Z
UID:5241-1622743200-1622747700@aperhu.pe
SUMMARY:Webinar: Compartiendo las mejores prácticas de Bienestar social en banca y retail
DESCRIPTION:
URL:https://aperhu.pe/evento/webinar-compartiendo-las-mejores-practicas-de-bienestar-social-en-banca-y-retail/
ATTACH;FMTTYPE=image/png:https://aperhu.pe/wp-content/uploads/2021/05/Webinar-BS.png
END:VEVENT
BEGIN:VEVENT
DTSTART;TZID=America/New_York:20210601T180000
DTEND;TZID=America/New_York:20210601T190000
DTSTAMP:20260423T144710
CREATED:20210521T171743Z
LAST-MODIFIED:20210521T172400Z
UID:5197-1622570400-1622574000@aperhu.pe
SUMMARY:Webinar: ¿Aún es posible compensar la licencia con goce de remuneraciones otorgados por la pandemia?
DESCRIPTION:Socios: Ingreso libre\nNo Socios: S/ 50.00 (incluye IGV)
URL:https://aperhu.pe/evento/webinar-aun-es-posible-compensar-la-licencia-con-goce-de-remuneraciones-otorgados-por-la-pandemia/
ATTACH;FMTTYPE=image/png:https://aperhu.pe/wp-content/uploads/2021/05/Webinar-Damma.png
ORGANIZER;CN="APERHU":MAILTO:aperhu@aperhu.com
END:VEVENT
BEGIN:VEVENT
DTSTART;TZID=America/New_York:20210525T190000
DTEND;TZID=America/New_York:20210525T203000
DTSTAMP:20260423T144710
CREATED:20210518T173721Z
LAST-MODIFIED:20210518T173847Z
UID:5181-1621969200-1621974600@aperhu.pe
SUMMARY:Conversatorio: Cómo gestionar la inteligencia emocional en entrevistas retadoras
DESCRIPTION:
URL:https://aperhu.pe/evento/conversatorio-como-gestionar-la-inteligencia-emocional-en-entrevistas-retadoras/
ATTACH;FMTTYPE=image/jpeg:https://aperhu.pe/wp-content/uploads/2021/05/EVENTO-EMPLEABILIDAD.jpg
END:VEVENT
BEGIN:VEVENT
DTSTART;TZID=America/New_York:20210525T180000
DTEND;TZID=America/New_York:20210525T190000
DTSTAMP:20260423T144710
CREATED:20210512T145121Z
LAST-MODIFIED:20210512T145121Z
UID:5108-1621965600-1621969200@aperhu.pe
SUMMARY:Transforma tu empresa en #Tendencia con la Transformación Digital
DESCRIPTION:
URL:https://aperhu.pe/evento/transforma-tu-empresa-en-tendencia-con-la-transformacion-digital/
ATTACH;FMTTYPE=image/png:https://aperhu.pe/wp-content/uploads/2021/05/TENDENCIA.png
END:VEVENT
BEGIN:VEVENT
DTSTART;TZID=America/New_York:20210513T180000
DTEND;TZID=America/New_York:20210513T190000
DTSTAMP:20260423T144710
CREATED:20210427T205025Z
LAST-MODIFIED:20210503T195219Z
UID:4750-1620928800-1620932400@aperhu.pe
SUMMARY:Webinar: Reset Empresarial "La gerencia del futuro"
DESCRIPTION:Un espacio para revisar las principales tendencias en el mundo empresarial\, cómo se está repensando el nuevo rol que deben cumplir las corporaciones\, acorde a los actuales desafíos de la sociedad y el mercado\, y cuáles son los perfiles que deben tener los gerentes para asumir estos retos.
URL:https://aperhu.pe/evento/webinar-reset-empresarial-la-gerencia-del-futuro/
ATTACH;FMTTYPE=image/png:https://aperhu.pe/wp-content/uploads/2021/04/reset-empresarial-2.png
ORGANIZER;CN="APERHU":MAILTO:aperhu@aperhu.com
END:VEVENT
BEGIN:VEVENT
DTSTART;TZID=America/New_York:20210506T180000
DTEND;TZID=America/New_York:20210506T190000
DTSTAMP:20260423T144710
CREATED:20210416T202430Z
LAST-MODIFIED:20210430T212131Z
UID:4371-1620324000-1620327600@aperhu.pe
SUMMARY:Webinar: Salario Emocional
DESCRIPTION:
URL:https://aperhu.pe/evento/salario-emocional/
ATTACH;FMTTYPE=image/png:https://aperhu.pe/wp-content/uploads/2021/04/FLYER.png
ORGANIZER;CN="APERHU":MAILTO:aperhu@aperhu.com
END:VEVENT
END:VCALENDAR